BEGIN:VCALENDAR
VERSION:2.0
PRODID:-//eventon.com NONSGML v1.0//EN
CALSCALE:GREGORIAN
METHOD:PUBLISH
BEGIN:VEVENT
UID:69e4d2f944e0f
DTSTAMP:20260419T130457Z
DTSTART:20211016T091500Z
DTEND:20211016T100000Z
LOCATION:
SUMMARY:Session: Starting a New Career in the Music Entertainment Industry
DESCRIPTION:Participants: Jess Carroll\,  Entertainment Management Project 
 Coordinator\,  Collarts Chrissie Vincent\,  Entertainment Management Progra
 m Leader\,  Collarts\nhttps://imxgo.com/events/event-test-29-2-2-6/
URL:https://imxgo.com/events/event-test-29-2-2-6/
END:VEVENT
END:VCALENDAR